BEGIN:VCALENDAR
VERSION:2.0
PRODID:-//Hatherleigh Festival - ECPv6.15.20//NONSGML v1.0//EN
CALSCALE:GREGORIAN
METHOD:PUBLISH
X-WR-CALNAME:Hatherleigh Festival
X-ORIGINAL-URL:https://www.hatherleighfestival.co.uk
X-WR-CALDESC:Events for Hatherleigh Festival
REFRESH-INTERVAL;VALUE=DURATION:PT1H
X-Robots-Tag:noindex
X-PUBLISHED-TTL:PT1H
BEGIN:VTIMEZONE
TZID:Europe/London
BEGIN:DAYLIGHT
TZOFFSETFROM:+0000
TZOFFSETTO:+0100
TZNAME:BST
DTSTART:20240331T010000
END:DAYLIGHT
BEGIN:STANDARD
TZOFFSETFROM:+0100
TZOFFSETTO:+0000
TZNAME:GMT
DTSTART:20241027T010000
END:STANDARD
BEGIN:DAYLIGHT
TZOFFSETFROM:+0000
TZOFFSETTO:+0100
TZNAME:BST
DTSTART:20250330T010000
END:DAYLIGHT
BEGIN:STANDARD
TZOFFSETFROM:+0100
TZOFFSETTO:+0000
TZNAME:GMT
DTSTART:20251026T010000
END:STANDARD
BEGIN:DAYLIGHT
TZOFFSETFROM:+0000
TZOFFSETTO:+0100
TZNAME:BST
DTSTART:20260329T010000
END:DAYLIGHT
BEGIN:STANDARD
TZOFFSETFROM:+0100
TZOFFSETTO:+0000
TZNAME:GMT
DTSTART:20261025T010000
END:STANDARD
END:VTIMEZONE
BEGIN:VEVENT
DTSTART;TZID=Europe/London:20250711T130000
DTEND;TZID=Europe/London:20250711T160000
DTSTAMP:20260423T060839
CREATED:20250515T091727Z
LAST-MODIFIED:20250605T163905Z
UID:10000008-1752238800-1752249600@www.hatherleighfestival.co.uk
SUMMARY:Silver Bangle Making Workshop
DESCRIPTION:Enjoy an afternoon learning the art of silver smithing. During the workshop you’ll learn how to cut\, shape and solder a silver bangle. You will then finish it by polishing and applying different textures. \n\n\n\nLocation: Hatherleigh Pottery \n\n\n\nAges: 12+ (under 18s accompanied by an adult) \n\n\n\n\n\n\n\nLocation\n\n\n\n\n\nOrganiser
URL:https://www.hatherleighfestival.co.uk/event/silver-bangle-making-workshop/
LOCATION:Hatherleigh Pottery\, 20 Market Street\, Hatherleigh\, Devon\, EX20 3JP\, United Kingdom
CATEGORIES:booking,Workshops & Talks
ATTACH;FMTTYPE=image/jpeg:https://www.hatherleighfestival.co.uk/wp-content/uploads/2025/05/Silver-bangles-web.jpg
GEO:50.8220143;-4.0714792
X-APPLE-STRUCTURED-LOCATION;VALUE=URI;X-ADDRESS=Hatherleigh Pottery 20 Market Street Hatherleigh Devon EX20 3JP United Kingdom;X-APPLE-RADIUS=500;X-TITLE=20 Market Street:geo:-4.0714792,50.8220143
END:VEVENT
BEGIN:VEVENT
DTSTART;TZID=Europe/London:20250711T130000
DTEND;TZID=Europe/London:20250711T170000
DTSTAMP:20260423T060839
CREATED:20250513T142312Z
LAST-MODIFIED:20250605T163837Z
UID:10000007-1752238800-1752253200@www.hatherleighfestival.co.uk
SUMMARY:Watersports Experience Session with Encompass Training
DESCRIPTION:Get ready for an exciting watersports experience at the beautiful Woolladon Lake\, Meeth\, offered by Encompass Training as part of Hatherleigh Festival 2025! \n\n\n\n \n\n\n\n\n\n\n\n \n\n\n\nWhether you’re a seasoned paddler or trying it for the first time\, this fun-filled session offers the chance to enjoy paddleboarding\, canoeing\, and kayaking on the serene lake. \n\n\n\nMeeting Points & Times:\n\n\n\n\nHatherleigh Community Centre: pickup at 1pm (transport provided) or meet at Meeth nature reserve main car park: 1:15pm\n\n\n\nReturn to Meeth car park at 4.45pm or Hatherleigh Community Centre at 5pm.\n\n\n\n\n \n\n\n\nFor full details and booking here:\n\n\n\n\nencompasstraining.co.uk/watersports-experience-session\n\n\n\n\nLimited Places Available! With only 20 spots available\, don’t miss out on this fantastic opportunity. \n\n\n\n\n\n\n\n \n\n\n\n\n\n\n\n\n\nHatherleigh Meet Point for Transport\n\n\n\n\n\nMeet Point near Lake\, Meeth
URL:https://www.hatherleighfestival.co.uk/event/watersports-experience-session-with-encompass-training/
LOCATION:Hatherleigh Community Centre\, Bowling Green Lane\, Hatherleigh\, Devon\, EX20 3HB\, United Kingdom
CATEGORIES:booking,Workshops & Talks
ATTACH;FMTTYPE=image/jpeg:https://www.hatherleighfestival.co.uk/wp-content/uploads/2025/05/FIJJE5771.jpg
ORGANIZER;CN="Encompass Training":MAILTO:mail@encompasstraining.co.uk
GEO:50.81907226076;-4.0736022401346
X-APPLE-STRUCTURED-LOCATION;VALUE=URI;X-ADDRESS=Hatherleigh Community Centre Bowling Green Lane Hatherleigh Devon EX20 3HB United Kingdom;X-APPLE-RADIUS=500;X-TITLE=Bowling Green Lane:geo:-4.0736022401346,50.81907226076
END:VEVENT
BEGIN:VEVENT
DTSTART;TZID=Europe/London:20250711T163000
DTEND;TZID=Europe/London:20250711T193000
DTSTAMP:20260423T060839
CREATED:20250515T093037Z
LAST-MODIFIED:20250605T163828Z
UID:10000009-1752251400-1752262200@www.hatherleighfestival.co.uk
SUMMARY:Silver Ring Making Workshop
DESCRIPTION:During the workshop you’ll learn how to cut\, solder and shape your very own bespoke silver ring. You will then have the opportunity to polish or finish this with different textures\, creating a unique piece of jewellery to take home with you. \n\n\n\nLocation: Hatherleigh PotteryAges: 12+ (under 18s accompanied by an adult) \n\n\n\n\n\n\n\nLocation\n\n\n\n\n\nOrganiser
URL:https://www.hatherleighfestival.co.uk/event/silver-ring-making-workshop/
LOCATION:Hatherleigh Pottery\, 20 Market Street\, Hatherleigh\, Devon\, EX20 3JP\, United Kingdom
CATEGORIES:booking,Workshops & Talks
ATTACH;FMTTYPE=image/jpeg:https://www.hatherleighfestival.co.uk/wp-content/uploads/2025/05/Silver-rings-web.jpg
GEO:50.8220143;-4.0714792
X-APPLE-STRUCTURED-LOCATION;VALUE=URI;X-ADDRESS=Hatherleigh Pottery 20 Market Street Hatherleigh Devon EX20 3JP United Kingdom;X-APPLE-RADIUS=500;X-TITLE=20 Market Street:geo:-4.0714792,50.8220143
END:VEVENT
END:VCALENDAR