BEGIN:VCALENDAR
VERSION:2.0
PRODID:-//Hatherleigh Festival - ECPv6.15.20//NONSGML v1.0//EN
CALSCALE:GREGORIAN
METHOD:PUBLISH
X-ORIGINAL-URL:https://www.hatherleighfestival.co.uk
X-WR-CALDESC:Events for Hatherleigh Festival
REFRESH-INTERVAL;VALUE=DURATION:PT1H
X-Robots-Tag:noindex
X-PUBLISHED-TTL:PT1H
BEGIN:VTIMEZONE
TZID:Europe/London
BEGIN:DAYLIGHT
TZOFFSETFROM:+0000
TZOFFSETTO:+0100
TZNAME:BST
DTSTART:20240331T010000
END:DAYLIGHT
BEGIN:STANDARD
TZOFFSETFROM:+0100
TZOFFSETTO:+0000
TZNAME:GMT
DTSTART:20241027T010000
END:STANDARD
BEGIN:DAYLIGHT
TZOFFSETFROM:+0000
TZOFFSETTO:+0100
TZNAME:BST
DTSTART:20250330T010000
END:DAYLIGHT
BEGIN:STANDARD
TZOFFSETFROM:+0100
TZOFFSETTO:+0000
TZNAME:GMT
DTSTART:20251026T010000
END:STANDARD
BEGIN:DAYLIGHT
TZOFFSETFROM:+0000
TZOFFSETTO:+0100
TZNAME:BST
DTSTART:20260329T010000
END:DAYLIGHT
BEGIN:STANDARD
TZOFFSETFROM:+0100
TZOFFSETTO:+0000
TZNAME:GMT
DTSTART:20261025T010000
END:STANDARD
END:VTIMEZONE
BEGIN:VEVENT
DTSTART;TZID=Europe/London:20250713T150000
DTEND;TZID=Europe/London:20250713T173000
DTSTAMP:20260423T110649
CREATED:20250610T213635Z
LAST-MODIFIED:20250610T213639Z
UID:10000053-1752418800-1752427800@www.hatherleighfestival.co.uk
SUMMARY:Open Mic
DESCRIPTION:Open Mic Afternoon \n\n\n\nAfter the wild success of last year’s Open Mic it is back again on Sunday afternoon. Come and join us for a very relaxed session in the Town Square. If you’re a budding local musician\, or just fancy a try at performing live\, come along and have a go. All welcome. \n\n\n\nLook out for the Wristband Draw too!
URL:https://www.hatherleighfestival.co.uk/event/open-mic/
LOCATION:The Marquee in the Square\, 27 Market Street\, Hatherleigh\, Devon\, EX20 3JN\, United Kingdom
CATEGORIES:Live Music
ATTACH;FMTTYPE=image/jpeg:https://www.hatherleighfestival.co.uk/wp-content/uploads/2019/05/openmic-1.jpg
GEO:50.821873;-4.0722087
X-APPLE-STRUCTURED-LOCATION;VALUE=URI;X-ADDRESS=The Marquee in the Square 27 Market Street Hatherleigh Devon EX20 3JN United Kingdom;X-APPLE-RADIUS=500;X-TITLE=27 Market Street:geo:-4.0722087,50.821873
END:VEVENT
END:VCALENDAR