BEGIN:VCALENDAR
VERSION:2.0
PRODID:-//Hatherleigh Festival - ECPv6.15.20//NONSGML v1.0//EN
CALSCALE:GREGORIAN
METHOD:PUBLISH
X-WR-CALNAME:Hatherleigh Festival
X-ORIGINAL-URL:https://www.hatherleighfestival.co.uk
X-WR-CALDESC:Events for Hatherleigh Festival
REFRESH-INTERVAL;VALUE=DURATION:PT1H
X-Robots-Tag:noindex
X-PUBLISHED-TTL:PT1H
BEGIN:VTIMEZONE
TZID:Europe/London
BEGIN:DAYLIGHT
TZOFFSETFROM:+0000
TZOFFSETTO:+0100
TZNAME:BST
DTSTART:20240331T010000
END:DAYLIGHT
BEGIN:STANDARD
TZOFFSETFROM:+0100
TZOFFSETTO:+0000
TZNAME:GMT
DTSTART:20241027T010000
END:STANDARD
BEGIN:DAYLIGHT
TZOFFSETFROM:+0000
TZOFFSETTO:+0100
TZNAME:BST
DTSTART:20250330T010000
END:DAYLIGHT
BEGIN:STANDARD
TZOFFSETFROM:+0100
TZOFFSETTO:+0000
TZNAME:GMT
DTSTART:20251026T010000
END:STANDARD
BEGIN:DAYLIGHT
TZOFFSETFROM:+0000
TZOFFSETTO:+0100
TZNAME:BST
DTSTART:20260329T010000
END:DAYLIGHT
BEGIN:STANDARD
TZOFFSETFROM:+0100
TZOFFSETTO:+0000
TZNAME:GMT
DTSTART:20261025T010000
END:STANDARD
END:VTIMEZONE
BEGIN:VEVENT
DTSTART;TZID=Europe/London:20250708T100000
DTEND;TZID=Europe/London:20250712T130000
DTSTAMP:20260423T000446
CREATED:20250610T205134Z
LAST-MODIFIED:20250610T205521Z
UID:10000047-1751968800-1752325200@www.hatherleighfestival.co.uk
SUMMARY:Salar Gallery
DESCRIPTION:Exhibition Opening times:\n\n\n\nTuesday 8th July: 10 am – 1 pm\, 2 pm – 4 pmThursday 10th July: 10 am – 1 pmFriday 11th July: 10 am – 1 pm\, 2 pm – 4 pmSaturday 12th July: 10 am – 1 pm \n\n\n\nSally & Beverley welcome you to a changing exhibition of work by Devon artists and makers throughout the year. \n\n\n\n\n\nLocation: Salar Gallery
URL:https://www.hatherleighfestival.co.uk/event/salar-gallery/
LOCATION:Salar Gallery\, 20 Bridge Street\, Hatherleigh\, Devon\, EX20 3HY\, United Kingdom
CATEGORIES:Exhibitions
ATTACH;FMTTYPE=image/jpeg:https://www.hatherleighfestival.co.uk/wp-content/uploads/2024/05/Salar-Gallery.jpg
ORGANIZER;CN="Hatherleigh Festival":MAILTO:info@hatherleighfestival.co.uk
GEO:50.8206765;-4.0724984
X-APPLE-STRUCTURED-LOCATION;VALUE=URI;X-ADDRESS=Salar Gallery 20 Bridge Street Hatherleigh Devon EX20 3HY United Kingdom;X-APPLE-RADIUS=500;X-TITLE=20 Bridge Street:geo:-4.0724984,50.8206765
END:VEVENT
BEGIN:VEVENT
DTSTART;TZID=Europe/London:20250711T100000
DTEND;TZID=Europe/London:20250712T160000
DTSTAMP:20260423T000446
CREATED:20250610T195705Z
LAST-MODIFIED:20250610T195709Z
UID:10000041-1752228000-1752336000@www.hatherleighfestival.co.uk
SUMMARY:Hatherleigh Pottery
DESCRIPTION:Exhibition Opening times:\n\n\n\nFriday 11th July: 10 am – 4 pmSaturday 12th July: 11 am – 4 pm \n\n\n\nAn exhibition of ceramics and more\n\n\n\nRichard\, Callum and Jane welcome you to Hatherleigh Pottery on Market Street\, where they will be exhibiting their own work for sale\, alongside a selection of ceramics and other handmade wares by other makers in the local area. \n\n\n\n\n\nLocation: Hatherleigh Pottery
URL:https://www.hatherleighfestival.co.uk/event/hatherleigh-pottery/
LOCATION:Hatherleigh Pottery\, 20 Market Street\, Hatherleigh\, Devon\, EX20 3JP\, United Kingdom
CATEGORIES:Exhibitions
ATTACH;FMTTYPE=image/jpeg:https://www.hatherleighfestival.co.uk/wp-content/uploads/2024/05/Hatherleigh-Pottery-1-scaled.jpg
ORGANIZER;CN="Hatherleigh Festival":MAILTO:info@hatherleighfestival.co.uk
GEO:50.8220143;-4.0714792
X-APPLE-STRUCTURED-LOCATION;VALUE=URI;X-ADDRESS=Hatherleigh Pottery 20 Market Street Hatherleigh Devon EX20 3JP United Kingdom;X-APPLE-RADIUS=500;X-TITLE=20 Market Street:geo:-4.0714792,50.8220143
END:VEVENT
BEGIN:VEVENT
DTSTART;TZID=Europe/London:20250711T180000
DTEND;TZID=Europe/London:20250713T160000
DTSTAMP:20260423T000446
CREATED:20250416T145839Z
LAST-MODIFIED:20250619T095018Z
UID:10000003-1752256800-1752422400@www.hatherleighfestival.co.uk
SUMMARY:The Hatherleigh Sketchbook Show
DESCRIPTION:Exhibition Opening times:\n\n\n\nFriday 11th July: 6 – 8 pmSaturday 12th July: 10 am – 6 pmSunday 13th July: 12 midday – 4 pm \n\n\n\nThe idea is to show the incredibly diverse interests\, ideas and talents of Hatherleigh residents\, and residents of Fallowfield\, Manchester at the Hatherleigh Festival 2025 and at The Shakespearean Garden\, Manchester\, through a sketchbook project.\n\n\n\nThe Hatherleigh Sketchbook Show: Twinned with Fallowfield\, Manchester.Over the course of the last year\, the fine folk of Hatherleigh and Fallowfield have been filling identical sketchbooks with all sorts of intriguing\, thoughtful\, funny and imaginative things. Come and spend some time discovering what goes on in the minds of your neighbours – a view of our town and their city\, in this quarter century. \n\n\n\nThe sketchbooks will also be shown at The Shakespearean Garden\, Manchester: \n\n\n\n\nThe Shakespearean Garden\n\n\n\n\n\n\n\n\n\n\n\n\n\n\n\n\n\n\n\n\n\n\nSketchbooks will be displayed on tables running the length of the upstairs room in Old Schools. \n\n\n\nThere will also be a construct your own bespoke sketchbook/journal/notebook workshop as part of Hatherleigh Festival: https://www.hatherleighfestival.co.uk/event/book-binding-workshop/ \n\n\n\nExhibition Opening times: \n\n\n\nFriday 11th July: 6 – 8 pmSaturday 12th July: 10 am – 6 pmSunday 13th July: 12 midday – 4 pm \n\n\n\n \n\n\n\nEmail: claireglads@gmail.com if you have any queries.
URL:https://www.hatherleighfestival.co.uk/event/the-hatherleigh-sketchbook-show/
LOCATION:Old Schools\, 23 Market Street\, Hatherleigh\, Okehampton\, Devon\, EX20 3JN\, United Kingdom
CATEGORIES:Exhibitions
ATTACH;FMTTYPE=image/jpeg:https://www.hatherleighfestival.co.uk/wp-content/uploads/2025/04/Sketchbook-show-fi.jpg
GEO:50.821854;-4.07245
X-APPLE-STRUCTURED-LOCATION;VALUE=URI;X-ADDRESS=Old Schools 23 Market Street Hatherleigh Okehampton Devon EX20 3JN United Kingdom;X-APPLE-RADIUS=500;X-TITLE=23 Market Street\, Hatherleigh:geo:-4.07245,50.821854
END:VEVENT
BEGIN:VEVENT
DTSTART;TZID=Europe/London:20250711T180000
DTEND;TZID=Europe/London:20250713T160000
DTSTAMP:20260423T000446
CREATED:20250416T162013Z
LAST-MODIFIED:20250619T095138Z
UID:10000006-1752256800-1752422400@www.hatherleighfestival.co.uk
SUMMARY:Guess Who – The Self Portrait Show
DESCRIPTION:Exhibition Opening times:\n\n\n\nFriday 11th July: 6 – 8 pmSaturday 12th July: 10 am – 6 pmSunday 13th July: 12 midday – 4 pm \n\n\n\nAn exhibition of who we are in Hatherleigh in 2025\n\n\n\nOn the walls of Old Schools we will be presenting an exhibition of self portraits\, painted\, drawn\, printed and sculpted by you and of you\, and a selfie wall for photos.  \n\n\n\nShowcasing self portraits by Hatherleigh Residents\, using a wide array of ideas for what a portrait represents\, and using a wide selection of materials to make them in.  \n\n\n\nThe exhibition will be hung with no names\, so you have to guess who! \n\n\n\nPrint out your best selfie and bring it along on Friday eve for our selfie wall. \n\n\n\n \n\n\n\nEmail: claireglads@gmail.com if you have any queries. \n\n\n\n\n\nLocation: First Floor\, Old Schools\, Hatherleigh
URL:https://www.hatherleighfestival.co.uk/event/guess-who-the-self-portrait-show/
LOCATION:Old Schools\, 23 Market Street\, Hatherleigh\, Okehampton\, Devon\, EX20 3JN\, United Kingdom
CATEGORIES:Exhibitions
ORGANIZER;CN="Hatherleigh Festival":MAILTO:info@hatherleighfestival.co.uk
GEO:50.821854;-4.07245
X-APPLE-STRUCTURED-LOCATION;VALUE=URI;X-ADDRESS=Old Schools 23 Market Street Hatherleigh Okehampton Devon EX20 3JN United Kingdom;X-APPLE-RADIUS=500;X-TITLE=23 Market Street\, Hatherleigh:geo:-4.07245,50.821854
END:VEVENT
BEGIN:VEVENT
DTSTART;TZID=Europe/London:20250711T180000
DTEND;TZID=Europe/London:20250713T160000
DTSTAMP:20260423T000446
CREATED:20250610T204411Z
LAST-MODIFIED:20250610T204939Z
UID:10000046-1752256800-1752422400@www.hatherleighfestival.co.uk
SUMMARY:Hatherleigh Art Group
DESCRIPTION:Exhibition Opening times:\n\n\n\nFriday 11th July: 6 – 8 pmSaturday 12th July: 10 am – 5 pmSunday 13th July: 12 midday – 4 pm \n\n\n\nHatherleigh Art Group Biennial Exhibition of Members’ Artwork at Commerce House\, No. 51 Market Street: It includes local sitters\, mosaics\, life drawing\, local scenes\, and photos of work on the Community Centre Mural.
URL:https://www.hatherleighfestival.co.uk/event/hatherleigh-art-group/
LOCATION:Commerce House\, 51 Market Street\, Hatherleigh\, Devon\, EX20 3JP\, United Kingdom
CATEGORIES:Exhibitions
ATTACH;FMTTYPE=image/jpeg:https://www.hatherleighfestival.co.uk/wp-content/uploads/2025/06/Art-group-exhib-web.jpg
GEO:50.8225038;-4.0709837
X-APPLE-STRUCTURED-LOCATION;VALUE=URI;X-ADDRESS=Commerce House 51 Market Street Hatherleigh Devon EX20 3JP United Kingdom;X-APPLE-RADIUS=500;X-TITLE=51 Market Street:geo:-4.0709837,50.8225038
END:VEVENT
BEGIN:VEVENT
DTSTART;TZID=Europe/London:20250711T180000
DTEND;TZID=Europe/London:20250713T160000
DTSTAMP:20260423T000446
CREATED:20250529T160255Z
LAST-MODIFIED:20250610T205245Z
UID:10000016-1752256800-1752422400@www.hatherleighfestival.co.uk
SUMMARY:Wildlife Photography Exhibition
DESCRIPTION:Exhibition Opening times: \n\n\n\nFriday 11th July: 6 – 8 pmSaturday 12th July: 10 am – 6 pmSunday 13th July: 12 midday – 4 pm \n\n\n\nCome along to the ground floor of Old Schools\, to see a curated exhibition of wildlife shots\, by award winning and internationally-renowned photographer\, Bryony Herrod-Taylor.  \n\n\n\nYou will also be able to see the winners of our very own Hatherleigh Festival Wildlife Photo Competition. \n\n\n\n\n\n\n\n\n\n\n\n\n\n\n\n\n\n\n\n\n\n\n\n\n\n\n\nLocation: Downstairs\, Old Schools\, Hatherleigh
URL:https://www.hatherleighfestival.co.uk/event/wildlife-photography-exhibition/
LOCATION:Old Schools\, 23 Market Street\, Hatherleigh\, Okehampton\, Devon\, EX20 3JN\, United Kingdom
CATEGORIES:Exhibitions
ATTACH;FMTTYPE=image/jpeg:https://www.hatherleighfestival.co.uk/wp-content/uploads/2025/05/bryony-photography-exhibition-02-web.jpg
ORGANIZER;CN="Hatherleigh Festival":MAILTO:info@hatherleighfestival.co.uk
GEO:50.821854;-4.07245
X-APPLE-STRUCTURED-LOCATION;VALUE=URI;X-ADDRESS=Old Schools 23 Market Street Hatherleigh Okehampton Devon EX20 3JN United Kingdom;X-APPLE-RADIUS=500;X-TITLE=23 Market Street\, Hatherleigh:geo:-4.07245,50.821854
END:VEVENT
BEGIN:VEVENT
DTSTART;TZID=Europe/London:20250712T090000
DTEND;TZID=Europe/London:20250713T180000
DTSTAMP:20260423T000446
CREATED:20250610T203459Z
LAST-MODIFIED:20250610T205006Z
UID:10000045-1752310800-1752429600@www.hatherleighfestival.co.uk
SUMMARY:Kids Sketchbook Show
DESCRIPTION:Exhibition Opening times:\n\n\n\nSaturday 12th July: 9 am – 6 pmSunday 13th July: 9 am – 6 pm \n\n\n\nChildren in Hatherleigh have also been getting creative with their own A5 sketchbooks! Visit St. John’s Church during the Festival to see what our talented next generation has been working on. \n\n\n\nThe theme is wide open\, so you’ll find a wonderful mix of drawings\, paintings\, collages\, and perhaps even a bit of poetry—each sketchbook a unique glimpse into young imaginations. \n\n\n\n\n\n\n\nLocation
URL:https://www.hatherleighfestival.co.uk/event/kids-sketchbook-show/
LOCATION:St John the Baptist Church\, St John the Baptist Church\, Hatherleigh\, Devon\, EX20 3JN\, United Kingdom
CATEGORIES:Exhibitions
ATTACH;FMTTYPE=image/jpeg:https://www.hatherleighfestival.co.uk/wp-content/uploads/2025/06/Kids-Sketchbook-show.jpg
GEO:50.8224758;-4.072585
X-APPLE-STRUCTURED-LOCATION;VALUE=URI;X-ADDRESS=St John the Baptist Church St John the Baptist Church Hatherleigh Devon EX20 3JN United Kingdom;X-APPLE-RADIUS=500;X-TITLE=St John the Baptist Church:geo:-4.072585,50.8224758
END:VEVENT
BEGIN:VEVENT
DTSTART;TZID=Europe/London:20250712T110000
DTEND;TZID=Europe/London:20250712T160000
DTSTAMP:20260423T000446
CREATED:20250413T145017Z
LAST-MODIFIED:20250416T162936Z
UID:10000002-1752318000-1752336000@www.hatherleighfestival.co.uk
SUMMARY:Festival ATC Swap
DESCRIPTION:Festival ATC swap at the Alchemy Room\, Hole Court\, Hatherleigh. \nWhat3words ///watched.holidays.wimp \nAt the Alchemy Room we believe everyone has a creative side and we would like to invite you to come and make a small piece of art of your choice known as an ATC or artist trading card. \nLeave it with us and take away one made by another ‘artist’. \nATC are traditionally swapped within the artistic community similarly to the way business cards are swapped. They are always handmade and measure 2 1/2 inches by 3 1/2  –  the size of a standard playing card\, which is often used as the backing. \nOn Saturday between 11am – 4pm the Alchemy room will open for you to come along to make and trade a card. Art & collage supplies are all provided and it’s Free. \nAlternatively if you’d like to make any at home please feel free to bring them along for the swap too. \nPlease make sure they are the correct size (2.5 x 3.5 inches) on a card substrate or adhered to an old playing card. \nDon’t want to make one?  No problem just come along and admire the handiwork of others. \nEnquiries: angelsandpetals@btinternet.com
URL:https://www.hatherleighfestival.co.uk/event/festival-atc-swap/
LOCATION:The Alchemy Room\, Hole Court\, Hatherleigh\, Okehampton\, Devon\, EX20 3JN\, United Kingdom
CATEGORIES:Exhibitions,Workshops & Talks
ATTACH;FMTTYPE=image/jpeg:https://www.hatherleighfestival.co.uk/wp-content/uploads/2025/04/ATC-Swap-1.jpg
GEO:50.822194;-4.073319
X-APPLE-STRUCTURED-LOCATION;VALUE=URI;X-ADDRESS=The Alchemy Room Hole Court Hatherleigh Okehampton Devon EX20 3JN United Kingdom;X-APPLE-RADIUS=500;X-TITLE=Hole Court\, Hatherleigh:geo:-4.073319,50.822194
END:VEVENT
BEGIN:VEVENT
DTSTART;TZID=Europe/London:20250713T110000
DTEND;TZID=Europe/London:20250713T160000
DTSTAMP:20260423T000446
CREATED:20250610T211112Z
LAST-MODIFIED:20250610T211116Z
UID:10000050-1752404400-1752422400@www.hatherleighfestival.co.uk
SUMMARY:The Burton Art Box \, Camera Obscura 
DESCRIPTION:The Burton Art Box Camera Obscura will be in The Square on Sunday. Come along and experience the natural phenomenon where light and physics teach us about the birth of cameras.
URL:https://www.hatherleighfestival.co.uk/event/the-burton-art-box-camera-obscura/
LOCATION:The Square\, 27 Market Street\, Hatherleigh\, Devon\, EX20 3JN\, United Kingdom
CATEGORIES:Exhibitions
ATTACH;FMTTYPE=image/jpeg:https://www.hatherleighfestival.co.uk/wp-content/uploads/2025/06/burton-art-box-3-web.jpg
GEO:50.821891;-4.072194
X-APPLE-STRUCTURED-LOCATION;VALUE=URI;X-ADDRESS=The Square 27 Market Street Hatherleigh Devon EX20 3JN United Kingdom;X-APPLE-RADIUS=500;X-TITLE=27 Market Street:geo:-4.072194,50.821891
END:VEVENT
END:VCALENDAR